BEGIN:VCALENDAR
VERSION:2.0
PRODID:-//Monthaven Art and Cultural Center - ECPv6.15.20//NONSGML v1.0//EN
CALSCALE:GREGORIAN
METHOD:PUBLISH
X-ORIGINAL-URL:https://monthavenarts.org
X-WR-CALDESC:Events for Monthaven Art and Cultural Center
REFRESH-INTERVAL;VALUE=DURATION:PT1H
X-Robots-Tag:noindex
X-PUBLISHED-TTL:PT1H
BEGIN:VTIMEZONE
TZID:America/Chicago
BEGIN:DAYLIGHT
TZOFFSETFROM:-0600
TZOFFSETTO:-0500
TZNAME:CDT
DTSTART:20240310T080000
END:DAYLIGHT
BEGIN:STANDARD
TZOFFSETFROM:-0500
TZOFFSETTO:-0600
TZNAME:CST
DTSTART:20241103T070000
END:STANDARD
BEGIN:DAYLIGHT
TZOFFSETFROM:-0600
TZOFFSETTO:-0500
TZNAME:CDT
DTSTART:20250309T080000
END:DAYLIGHT
BEGIN:STANDARD
TZOFFSETFROM:-0500
TZOFFSETTO:-0600
TZNAME:CST
DTSTART:20251102T070000
END:STANDARD
BEGIN:DAYLIGHT
TZOFFSETFROM:-0600
TZOFFSETTO:-0500
TZNAME:CDT
DTSTART:20260308T080000
END:DAYLIGHT
BEGIN:STANDARD
TZOFFSETFROM:-0500
TZOFFSETTO:-0600
TZNAME:CST
DTSTART:20261101T070000
END:STANDARD
END:VTIMEZONE
BEGIN:VEVENT
DTSTART;TZID=America/Chicago:20250726T180000
DTEND;TZID=America/Chicago:20250726T210000
DTSTAMP:20260421T133222
CREATED:20250430T214615Z
LAST-MODIFIED:20250702T161109Z
UID:13458-1753552800-1753563600@monthavenarts.org
SUMMARY:Sweet Summer Concerts: Tolleson Experiment
DESCRIPTION:The Tolleson Experiment\, a 6-piece blues-rock-country band from Nashville\, gives you rock with a message. With influences of blues\, alt-country\, and a dash of electronica included\, the band brings a positive message to you with some great music. As a Nashville band\, the Tolleson Experiment has immersed itself in mind-boggling variety of styles. These various musical influences find their way into every note the band performs. Singer-songwriter Lily Grace will open the concert. \nAll concert series performances take place beneath the stars on the lawn of beautiful Monthaven mansion. Bring your blankets\, lawn chairs and appetites and enjoy food and beverages available from Bruster’s Ice Cream\, Cuban Crackers and Calidogs. Admission to this amazing event is free.
URL:https://monthavenarts.org/event/sweet-summer-concerts-tolleson-experiment/
CATEGORIES:Events
ATTACH;FMTTYPE=image/webp:https://monthavenarts.org/wp-content/uploads/2025/04/Tolleson-SSC.webp
END:VEVENT
END:VCALENDAR