BEGIN:VCALENDAR
VERSION:2.0
PRODID:-//Monthaven Art and Cultural Center - ECPv6.15.20//NONSGML v1.0//EN
CALSCALE:GREGORIAN
METHOD:PUBLISH
X-WR-CALNAME:Monthaven Art and Cultural Center
X-ORIGINAL-URL:https://monthavenarts.org
X-WR-CALDESC:Events for Monthaven Art and Cultural Center
REFRESH-INTERVAL;VALUE=DURATION:PT1H
X-Robots-Tag:noindex
X-PUBLISHED-TTL:PT1H
BEGIN:VTIMEZONE
TZID:America/Chicago
BEGIN:DAYLIGHT
TZOFFSETFROM:-0600
TZOFFSETTO:-0500
TZNAME:CDT
DTSTART:20230312T080000
END:DAYLIGHT
BEGIN:STANDARD
TZOFFSETFROM:-0500
TZOFFSETTO:-0600
TZNAME:CST
DTSTART:20231105T070000
END:STANDARD
BEGIN:DAYLIGHT
TZOFFSETFROM:-0600
TZOFFSETTO:-0500
TZNAME:CDT
DTSTART:20240310T080000
END:DAYLIGHT
BEGIN:STANDARD
TZOFFSETFROM:-0500
TZOFFSETTO:-0600
TZNAME:CST
DTSTART:20241103T070000
END:STANDARD
BEGIN:DAYLIGHT
TZOFFSETFROM:-0600
TZOFFSETTO:-0500
TZNAME:CDT
DTSTART:20250309T080000
END:DAYLIGHT
BEGIN:STANDARD
TZOFFSETFROM:-0500
TZOFFSETTO:-0600
TZNAME:CST
DTSTART:20251102T070000
END:STANDARD
END:VTIMEZONE
BEGIN:VEVENT
DTSTART;TZID=America/Chicago:20240727T180000
DTEND;TZID=America/Chicago:20240727T210000
DTSTAMP:20260422T131929
CREATED:20240301T021341Z
LAST-MODIFIED:20240725T192801Z
UID:9118-1722103200-1722114000@monthavenarts.org
SUMMARY:Sweet Summer Concerts - The Tolleson Experiment
DESCRIPTION:The Tolleson Experiment\, a 6-piece blues-rock-country band from Nashville\, gives you rock with a message. With influences of blues\, alt-country\, and a dash of electronica included\, the band brings a positive message to you with some great music. As a Nashville band\, the Tolleson Experiment has immersed itself in mind-boggling variety of styles. These various musical influences find their way into every note the band performs. \n Food Truck Fundraiser Alert! \nJoin us for a delicious and rockin’ night of giving back! \nWe’re excited to announce that Bryson McCarley State Farm and the Good Neighbor Foundation will be serving up amazing food for a cause!\n Here’s how it works:\nDonate whatever you can to the Monthaven Arts & Cultural Center.\nGet a tasty meal in return!\n                 ***BRING YOUR LAWN CHAIRS!!!***\nAll proceeds will help support Monthaven’s incredible arts programs and community initiatives. Let’s come together to enjoy great food and support a great cause!\nBring your friends\, and let’s make a difference one bite at a time! \nAVAILABLE FOR PURCHASE will be ice cream from Brusters Ice Cream Hendersonville and libations from Marble Fox Brewing Company\nGet ready to rock beneath the stars!
URL:https://monthavenarts.org/event/sweet-summer-concerts-the-tolleson-experiment/
LOCATION:Monthaven Arts and Cultural Center\, 1017 Antebellum Circle\, Hendersonville\, 37075\, United States
CATEGORIES:Events
ATTACH;FMTTYPE=image/jpeg:https://monthavenarts.org/wp-content/uploads/2024/02/tolleson72.jpg
ORGANIZER;CN="Monthaven Arts and Cultural Center":MAILTO:admin@themacctn.org
END:VEVENT
END:VCALENDAR