BEGIN:VCALENDAR
VERSION:2.0
PRODID:-//Monthaven Art and Cultural Center - ECPv6.15.20//NONSGML v1.0//EN
CALSCALE:GREGORIAN
METHOD:PUBLISH
X-ORIGINAL-URL:https://monthavenarts.org
X-WR-CALDESC:Events for Monthaven Art and Cultural Center
REFRESH-INTERVAL;VALUE=DURATION:PT1H
X-Robots-Tag:noindex
X-PUBLISHED-TTL:PT1H
BEGIN:VTIMEZONE
TZID:America/Chicago
BEGIN:DAYLIGHT
TZOFFSETFROM:-0600
TZOFFSETTO:-0500
TZNAME:CDT
DTSTART:20250309T080000
END:DAYLIGHT
BEGIN:STANDARD
TZOFFSETFROM:-0500
TZOFFSETTO:-0600
TZNAME:CST
DTSTART:20251102T070000
END:STANDARD
BEGIN:DAYLIGHT
TZOFFSETFROM:-0600
TZOFFSETTO:-0500
TZNAME:CDT
DTSTART:20260308T080000
END:DAYLIGHT
BEGIN:STANDARD
TZOFFSETFROM:-0500
TZOFFSETTO:-0600
TZNAME:CST
DTSTART:20261101T070000
END:STANDARD
BEGIN:DAYLIGHT
TZOFFSETFROM:-0600
TZOFFSETTO:-0500
TZNAME:CDT
DTSTART:20270314T080000
END:DAYLIGHT
BEGIN:STANDARD
TZOFFSETFROM:-0500
TZOFFSETTO:-0600
TZNAME:CST
DTSTART:20271107T070000
END:STANDARD
END:VTIMEZONE
BEGIN:VEVENT
DTSTART;TZID=America/Chicago:20260711T170000
DTEND;TZID=America/Chicago:20260711T200000
DTSTAMP:20260421T002624
CREATED:20260409T134717Z
LAST-MODIFIED:20260409T134717Z
UID:16717-1783789200-1783800000@monthavenarts.org
SUMMARY:Sweet Summer Concerts: Pure Ronstadt
DESCRIPTION:The MACC’s Sweet Summer Concert Series welcomes the vocal artist Teresa for a heartfelt tribute to the legendary singer Linda Ronstadt. A former Sony Music Nashville recording artist and a seven-time College Entertainer of the Year\, Teresa channels the spirit\, emotion and power that made Ronstadt a defining artist of the 1970s. Backed by her band Long Long Time\, named for Ronstadt’s first solo radio hit\, Teresa delivers an authentic concert experience that faithfully recreates the signature arrangements\, soaring vocals and unforgettable melodies that shaped a generation. Bruster’s Ice Cream\, Sloopy Joel and Wood Fire Pizza will have food trucks onsite. Doors open at 5 p.m. and concert starts at 6 p.m. Bring your lawn chairs for this free event.
URL:https://monthavenarts.org/event/sweet-summer-concerts-pure-ronstadt/
LOCATION:Monthaven Arts and Cultural Center\, 1017 Antebellum Circle\, Hendersonville\, 37075\, United States
CATEGORIES:Events
ATTACH;FMTTYPE=image/webp:https://monthavenarts.org/wp-content/uploads/2026/04/Teresa.webp
END:VEVENT
END:VCALENDAR