BEGIN:VCALENDAR
VERSION:2.0
PRODID:-//Monthaven Art and Cultural Center - ECPv6.15.20//NONSGML v1.0//EN
CALSCALE:GREGORIAN
METHOD:PUBLISH
X-ORIGINAL-URL:https://monthavenarts.org
X-WR-CALDESC:Events for Monthaven Art and Cultural Center
REFRESH-INTERVAL;VALUE=DURATION:PT1H
X-Robots-Tag:noindex
X-PUBLISHED-TTL:PT1H
BEGIN:VTIMEZONE
TZID:America/Chicago
BEGIN:DAYLIGHT
TZOFFSETFROM:-0600
TZOFFSETTO:-0500
TZNAME:CDT
DTSTART:20250309T080000
END:DAYLIGHT
BEGIN:STANDARD
TZOFFSETFROM:-0500
TZOFFSETTO:-0600
TZNAME:CST
DTSTART:20251102T070000
END:STANDARD
BEGIN:DAYLIGHT
TZOFFSETFROM:-0600
TZOFFSETTO:-0500
TZNAME:CDT
DTSTART:20260308T080000
END:DAYLIGHT
BEGIN:STANDARD
TZOFFSETFROM:-0500
TZOFFSETTO:-0600
TZNAME:CST
DTSTART:20261101T070000
END:STANDARD
BEGIN:DAYLIGHT
TZOFFSETFROM:-0600
TZOFFSETTO:-0500
TZNAME:CDT
DTSTART:20270314T080000
END:DAYLIGHT
BEGIN:STANDARD
TZOFFSETFROM:-0500
TZOFFSETTO:-0600
TZNAME:CST
DTSTART:20271107T070000
END:STANDARD
END:VTIMEZONE
BEGIN:VEVENT
DTSTART;TZID=America/Chicago:20260516T170000
DTEND;TZID=America/Chicago:20260516T200000
DTSTAMP:20260420T195447
CREATED:20260409T133749Z
LAST-MODIFIED:20260409T133749Z
UID:16704-1778950800-1778961600@monthavenarts.org
SUMMARY:Sweet Summer Concerts: Alex Smith and the Mobile Homeboys
DESCRIPTION:Alex Smith and the Mobile Homeboys bring their authentic country-rock sound to the MACC’s Sweet Summer Concert Series. Smith is a Nashville-based country recording artist known for his Southern charm and quirky\, fun-loving personality. He has opened for Uncle Kracker\, Brett Eldredge\, Thomas Rhett\, Blake Shelton and Dolly Parton and racked up millions of streams on his original music. Smith and the top-tier musicians of the Mobile Homeboys make all of your favorite songs sound dang close to the record. Bruster’s Ice Cream\, Sloopy Joel and Wood Fire Pizza will have food trucks onsite. Doors open at 5 p.m. and concert starts at 6 p.m. Bring your lawn chairs for this free event.
URL:https://monthavenarts.org/event/sweet-summer-concerts-alex-smith-and-the-mobile-homeboys/
LOCATION:Monthaven Arts and Cultural Center\, 1017 Antebellum Circle\, Hendersonville\, 37075\, United States
CATEGORIES:Events
ATTACH;FMTTYPE=image/webp:https://monthavenarts.org/wp-content/uploads/2026/04/Alex-Smith-Homeboys.webp
END:VEVENT
END:VCALENDAR