BEGIN:VCALENDAR
VERSION:2.0
PRODID:-//Monthaven Art and Cultural Center - ECPv6.15.20//NONSGML v1.0//EN
CALSCALE:GREGORIAN
METHOD:PUBLISH
X-WR-CALNAME:Monthaven Art and Cultural Center
X-ORIGINAL-URL:https://monthavenarts.org
X-WR-CALDESC:Events for Monthaven Art and Cultural Center
REFRESH-INTERVAL;VALUE=DURATION:PT1H
X-Robots-Tag:noindex
X-PUBLISHED-TTL:PT1H
BEGIN:VTIMEZONE
TZID:America/Chicago
BEGIN:DAYLIGHT
TZOFFSETFROM:-0600
TZOFFSETTO:-0500
TZNAME:CDT
DTSTART:20240310T080000
END:DAYLIGHT
BEGIN:STANDARD
TZOFFSETFROM:-0500
TZOFFSETTO:-0600
TZNAME:CST
DTSTART:20241103T070000
END:STANDARD
BEGIN:DAYLIGHT
TZOFFSETFROM:-0600
TZOFFSETTO:-0500
TZNAME:CDT
DTSTART:20250309T080000
END:DAYLIGHT
BEGIN:STANDARD
TZOFFSETFROM:-0500
TZOFFSETTO:-0600
TZNAME:CST
DTSTART:20251102T070000
END:STANDARD
BEGIN:DAYLIGHT
TZOFFSETFROM:-0600
TZOFFSETTO:-0500
TZNAME:CDT
DTSTART:20260308T080000
END:DAYLIGHT
BEGIN:STANDARD
TZOFFSETFROM:-0500
TZOFFSETTO:-0600
TZNAME:CST
DTSTART:20261101T070000
END:STANDARD
END:VTIMEZONE
BEGIN:VEVENT
DTSTART;TZID=America/Chicago:20250531T180000
DTEND;TZID=America/Chicago:20250531T210000
DTSTAMP:20260423T150508
CREATED:20250430T213610Z
LAST-MODIFIED:20250430T213610Z
UID:13451-1748714400-1748725200@monthavenarts.org
SUMMARY:Sweet Summer Concerts: Cimarron 615
DESCRIPTION:Monthaven Arts and Cultural Center’s Fourth Annual Sweet Summer Concert Series opens with Cimarron 615. This terrific quartet oozes world-class songcraft and innate musicality paired with sweet vocal harmonies\, moving lyrics\, and taut\, exciting solos. They smoothly marry bluegrass instrumentation (banjo\, mandolin\, Dobro) to breezy California country rock\, gritty blues\, and pop. It’s also worth noting that every member of Cimarron 615 – Jack Sundrud\, Michael Webb\, Rick Lonow and Ronnie Guilbeau – is a respected songwriter\, skilled singer and virtuosic instrumentalist. If you’re a fan of The Eagles\, Poco\, Flying Burrito Brothers and The Byrds\, you’ll love Cimarron 615. \nAll concert series performances take place beneath the stars on the lawn of beautiful Monthaven mansion. Bring your blankets\, lawn chairs and appetites and enjoy food and beverages available from Calidogs\, Bruster’s Ice Cream\, Sugar Shack and Music City Brisket. Admission to this amazing event is free. \n 
URL:https://monthavenarts.org/event/sweet-summer-concerts-cimarron-615/
CATEGORIES:Events
ATTACH;FMTTYPE=image/webp:https://monthavenarts.org/wp-content/uploads/2025/04/Cimarron-615.webp
END:VEVENT
END:VCALENDAR