BEGIN:VCALENDAR
VERSION:2.0
PRODID:-//Monthaven Art and Cultural Center - ECPv6.15.20//NONSGML v1.0//EN
CALSCALE:GREGORIAN
METHOD:PUBLISH
X-ORIGINAL-URL:https://monthavenarts.org
X-WR-CALDESC:Events for Monthaven Art and Cultural Center
REFRESH-INTERVAL;VALUE=DURATION:PT1H
X-Robots-Tag:noindex
X-PUBLISHED-TTL:PT1H
BEGIN:VTIMEZONE
TZID:America/Chicago
BEGIN:DAYLIGHT
TZOFFSETFROM:-0600
TZOFFSETTO:-0500
TZNAME:CDT
DTSTART:20230312T080000
END:DAYLIGHT
BEGIN:STANDARD
TZOFFSETFROM:-0500
TZOFFSETTO:-0600
TZNAME:CST
DTSTART:20231105T070000
END:STANDARD
BEGIN:DAYLIGHT
TZOFFSETFROM:-0600
TZOFFSETTO:-0500
TZNAME:CDT
DTSTART:20240310T080000
END:DAYLIGHT
BEGIN:STANDARD
TZOFFSETFROM:-0500
TZOFFSETTO:-0600
TZNAME:CST
DTSTART:20241103T070000
END:STANDARD
BEGIN:DAYLIGHT
TZOFFSETFROM:-0600
TZOFFSETTO:-0500
TZNAME:CDT
DTSTART:20250309T080000
END:DAYLIGHT
BEGIN:STANDARD
TZOFFSETFROM:-0500
TZOFFSETTO:-0600
TZNAME:CST
DTSTART:20251102T070000
END:STANDARD
END:VTIMEZONE
BEGIN:VEVENT
DTSTART;TZID=America/Chicago:20240915T173000
DTEND;TZID=America/Chicago:20240915T210000
DTSTAMP:20260423T164439
CREATED:20240903T205338Z
LAST-MODIFIED:20240903T214952Z
UID:11356-1726421400-1726434000@monthavenarts.org
SUMMARY:Sabor y Arte: An Evening of Spanish Flavors\, Salvador Dali and Nashville Opera
DESCRIPTION:Sabor y Arte (“Flavor and Art”) offers an immersive experience. This memorable evening will celebrate the richness of Spanish culture through a delightful blend of food\, art and music. \nEnjoy an authentic Spanish dinner and assorted wines while viewing our exhibition Stairway to Heaven: Salvador Dali’s The Divine Comedy. Morris Shapiro\, a noted art historian and gallery director of Michigan’s Park West Gallery\, will discuss the legendary Spanish artist’s magnificent engravings. \nAs a special treat\, Nashville Opera vocalists will be on hand to perform selections from their upcoming production of Carmen along with other works. So grab your castanets and prepare to be amazed. \nSeating for this event is very limited. Registration is required. To purchase tickets ($75) click on the button below. \nBOOK ONLINE
URL:https://monthavenarts.org/event/sabor-y-arte-an-evening-of-spanish-flavors-salvador-dali-and-nashville-opera/
LOCATION:Monthaven Arts and Cultural Center\, 1017 Antebellum Circle\, Hendersonville\, 37075\, United States
CATEGORIES:Events
ATTACH;FMTTYPE=image/webp:https://monthavenarts.org/wp-content/uploads/2024/09/sabor-y-arte-1.webp
END:VEVENT
END:VCALENDAR