BEGIN:VCALENDAR
VERSION:2.0
PRODID:-//Monthaven Art and Cultural Center - ECPv6.15.20//NONSGML v1.0//EN
CALSCALE:GREGORIAN
METHOD:PUBLISH
X-ORIGINAL-URL:https://monthavenarts.org
X-WR-CALDESC:Events for Monthaven Art and Cultural Center
REFRESH-INTERVAL;VALUE=DURATION:PT1H
X-Robots-Tag:noindex
X-PUBLISHED-TTL:PT1H
BEGIN:VTIMEZONE
TZID:America/Chicago
BEGIN:DAYLIGHT
TZOFFSETFROM:-0600
TZOFFSETTO:-0500
TZNAME:CDT
DTSTART:20240310T080000
END:DAYLIGHT
BEGIN:STANDARD
TZOFFSETFROM:-0500
TZOFFSETTO:-0600
TZNAME:CST
DTSTART:20241103T070000
END:STANDARD
BEGIN:DAYLIGHT
TZOFFSETFROM:-0600
TZOFFSETTO:-0500
TZNAME:CDT
DTSTART:20250309T080000
END:DAYLIGHT
BEGIN:STANDARD
TZOFFSETFROM:-0500
TZOFFSETTO:-0600
TZNAME:CST
DTSTART:20251102T070000
END:STANDARD
BEGIN:DAYLIGHT
TZOFFSETFROM:-0600
TZOFFSETTO:-0500
TZNAME:CDT
DTSTART:20260308T080000
END:DAYLIGHT
BEGIN:STANDARD
TZOFFSETFROM:-0500
TZOFFSETTO:-0600
TZNAME:CST
DTSTART:20261101T070000
END:STANDARD
END:VTIMEZONE
BEGIN:VEVENT
DTSTART;TZID=America/Chicago:20251016T170000
DTEND;TZID=America/Chicago:20251016T190000
DTSTAMP:20260421T211843
CREATED:20251009T151653Z
LAST-MODIFIED:20251009T151653Z
UID:14962-1760634000-1760641200@monthavenarts.org
SUMMARY:Opera on Wheels
DESCRIPTION:Nashville Opera brings Opera On Wheels to the Monthaven Arts and Cultural Center on Thursday\, Oct. 16\, 2025. This terrific\, family-friendly program will feature some of the “greatest hits” from opera\, operetta and musical theater. Nashville Opera’s amazing vocalists will offer selections from Roméo et Juliette\, Wicked\, South Pacific and more.The performance will take place beneath the stars on the lawn of beautiful Monthaven mansion. A gourmet food vendor will be available to provide refreshments to visitors\, who are encouraged to bring lawn chairs and picnic blankets. Admission to this entertaining event is free. This year’s Opera On Wheels performance coincides with the MACC’s Unknown Picasso exhibition. Come for the Picasso\, stay for the opera! \n  \n 
URL:https://monthavenarts.org/event/opera-on-wheels/
LOCATION:Monthaven Arts and Cultural Center\, 1017 Antebellum Circle\, Hendersonville\, 37075\, United States
CATEGORIES:Events
ATTACH;FMTTYPE=image/webp:https://monthavenarts.org/wp-content/uploads/2025/10/opera-wheels-crop72.webp
END:VEVENT
END:VCALENDAR