BEGIN:VCALENDAR
VERSION:2.0
PRODID:-//Monthaven Art and Cultural Center - ECPv6.15.20//NONSGML v1.0//EN
CALSCALE:GREGORIAN
METHOD:PUBLISH
X-WR-CALNAME:Monthaven Art and Cultural Center
X-ORIGINAL-URL:https://monthavenarts.org
X-WR-CALDESC:Events for Monthaven Art and Cultural Center
REFRESH-INTERVAL;VALUE=DURATION:PT1H
X-Robots-Tag:noindex
X-PUBLISHED-TTL:PT1H
BEGIN:VTIMEZONE
TZID:America/Chicago
BEGIN:DAYLIGHT
TZOFFSETFROM:-0600
TZOFFSETTO:-0500
TZNAME:CDT
DTSTART:20230312T080000
END:DAYLIGHT
BEGIN:STANDARD
TZOFFSETFROM:-0500
TZOFFSETTO:-0600
TZNAME:CST
DTSTART:20231105T070000
END:STANDARD
BEGIN:DAYLIGHT
TZOFFSETFROM:-0600
TZOFFSETTO:-0500
TZNAME:CDT
DTSTART:20240310T080000
END:DAYLIGHT
BEGIN:STANDARD
TZOFFSETFROM:-0500
TZOFFSETTO:-0600
TZNAME:CST
DTSTART:20241103T070000
END:STANDARD
BEGIN:DAYLIGHT
TZOFFSETFROM:-0600
TZOFFSETTO:-0500
TZNAME:CDT
DTSTART:20250309T080000
END:DAYLIGHT
BEGIN:STANDARD
TZOFFSETFROM:-0500
TZOFFSETTO:-0600
TZNAME:CST
DTSTART:20251102T070000
END:STANDARD
END:VTIMEZONE
BEGIN:VEVENT
DTSTART;TZID=America/Chicago:20240919T183000
DTEND;TZID=America/Chicago:20240919T193000
DTSTAMP:20260423T193832
CREATED:20240712T212417Z
LAST-MODIFIED:20240712T212417Z
UID:10587-1726770600-1726774200@monthavenarts.org
SUMMARY:Lisa Jennings Artist Talk
DESCRIPTION:Journey with artist Lisa Jennings as she delves into the influences that shape her work. She will discuss the role of artmaking and how meditation guides the outcome of her creations. The evening will include refreshments and an opportunity to meet the artist and ask questions about her art and process. The talk coincides with the exhibit On the Wings of Blessings: The Art of Lisa Jennings\, which runs Aug. 3 to Sept. 29 in the MACC’s Papillon Gallery.
URL:https://monthavenarts.org/event/lisa-jennings-artist-talk/
CATEGORIES:Events
ATTACH;FMTTYPE=image/webp:https://monthavenarts.org/wp-content/uploads/2024/07/Jennings-Artist-Talk.webp
END:VEVENT
END:VCALENDAR