BEGIN:VCALENDAR
VERSION:2.0
PRODID:-//Monthaven Art and Cultural Center - ECPv6.15.20//NONSGML v1.0//EN
CALSCALE:GREGORIAN
METHOD:PUBLISH
X-WR-CALNAME:Monthaven Art and Cultural Center
X-ORIGINAL-URL:https://monthavenarts.org
X-WR-CALDESC:Events for Monthaven Art and Cultural Center
REFRESH-INTERVAL;VALUE=DURATION:PT1H
X-Robots-Tag:noindex
X-PUBLISHED-TTL:PT1H
BEGIN:VTIMEZONE
TZID:America/Chicago
BEGIN:DAYLIGHT
TZOFFSETFROM:-0600
TZOFFSETTO:-0500
TZNAME:CDT
DTSTART:20240310T080000
END:DAYLIGHT
BEGIN:STANDARD
TZOFFSETFROM:-0500
TZOFFSETTO:-0600
TZNAME:CST
DTSTART:20241103T070000
END:STANDARD
BEGIN:DAYLIGHT
TZOFFSETFROM:-0600
TZOFFSETTO:-0500
TZNAME:CDT
DTSTART:20250309T080000
END:DAYLIGHT
BEGIN:STANDARD
TZOFFSETFROM:-0500
TZOFFSETTO:-0600
TZNAME:CST
DTSTART:20251102T070000
END:STANDARD
BEGIN:DAYLIGHT
TZOFFSETFROM:-0600
TZOFFSETTO:-0500
TZNAME:CDT
DTSTART:20260308T080000
END:DAYLIGHT
BEGIN:STANDARD
TZOFFSETFROM:-0500
TZOFFSETTO:-0600
TZNAME:CST
DTSTART:20261101T070000
END:STANDARD
END:VTIMEZONE
BEGIN:VEVENT
DTSTART;TZID=America/Chicago:20250920T180000
DTEND;TZID=America/Chicago:20250920T210000
DTSTAMP:20260421T195312
CREATED:20250730T212430Z
LAST-MODIFIED:20250731T142514Z
UID:14152-1758391200-1758402000@monthavenarts.org
SUMMARY:Monthaven's Night at the Opera
DESCRIPTION:A Night at the Opera		\n				\n				\n				\n			Saturday\, April 4\, 2026 from 6 to 8 p.m. $75		\n				\n				\n				\n																										\n				\n				\n				\n							Join us for an unforgettable evening of music\, art and culinary delight as the MACC’s Night at the Opera returns. Set in the elegant surroundings of the MACC’s art galleries\, the evening will feature an exquisite curated meal and drinks followed by a stunning live performance by some of Nashville Opera’s finest vocalists. Their Italian-inspired program will include selections from Rossini’s The Barber of Seville.  This will also be a preview event for Nashville Opera’s upcoming April production of The Barber of Seville at TPAC’s Jackson Hall. Seating for A Night at the Opera is limited. Reserve your seat now and experience opera like never before—where fine art meets the dramatic arts in perfect harmony.						\n				\n				\n				\n					\n			\n						\n									Click here\n					\n					\n		\n				\n				\n				\n				\n			\n	\n		\n\n	\n	Add to calendar	\n		\n	\n\n		\n			\n									\n	Google Calendar\n\n									\n	iCalendar\n\n									\n	Outlook 365\n\n									\n	Outlook Live
URL:https://monthavenarts.org/event/monthavens-night-at-the-opera-2/
LOCATION:Monthaven Arts and Cultural Center\, 1017 Antebellum Circle\, Hendersonville\, 37075\, United States
CATEGORIES:Events
ATTACH;FMTTYPE=image/webp:https://monthavenarts.org/wp-content/uploads/2025/07/Night-at-the-Opera.webp
END:VEVENT
END:VCALENDAR