BEGIN:VCALENDAR
VERSION:2.0
PRODID:-//Monthaven Art and Cultural Center - ECPv6.15.20//NONSGML v1.0//EN
CALSCALE:GREGORIAN
METHOD:PUBLISH
X-WR-CALNAME:Monthaven Art and Cultural Center
X-ORIGINAL-URL:https://monthavenarts.org
X-WR-CALDESC:Events for Monthaven Art and Cultural Center
REFRESH-INTERVAL;VALUE=DURATION:PT1H
X-Robots-Tag:noindex
X-PUBLISHED-TTL:PT1H
BEGIN:VTIMEZONE
TZID:America/Chicago
BEGIN:DAYLIGHT
TZOFFSETFROM:-0600
TZOFFSETTO:-0500
TZNAME:CDT
DTSTART:20230312T080000
END:DAYLIGHT
BEGIN:STANDARD
TZOFFSETFROM:-0500
TZOFFSETTO:-0600
TZNAME:CST
DTSTART:20231105T070000
END:STANDARD
BEGIN:DAYLIGHT
TZOFFSETFROM:-0600
TZOFFSETTO:-0500
TZNAME:CDT
DTSTART:20240310T080000
END:DAYLIGHT
BEGIN:STANDARD
TZOFFSETFROM:-0500
TZOFFSETTO:-0600
TZNAME:CST
DTSTART:20241103T070000
END:STANDARD
BEGIN:DAYLIGHT
TZOFFSETFROM:-0600
TZOFFSETTO:-0500
TZNAME:CDT
DTSTART:20250309T080000
END:DAYLIGHT
BEGIN:STANDARD
TZOFFSETFROM:-0500
TZOFFSETTO:-0600
TZNAME:CST
DTSTART:20251102T070000
END:STANDARD
END:VTIMEZONE
BEGIN:VEVENT
DTSTART;TZID=America/Chicago:20240406T180000
DTEND;TZID=America/Chicago:20240406T200000
DTSTAMP:20260422T231943
CREATED:20240318T191253Z
LAST-MODIFIED:20240319T050701Z
UID:9402-1712426400-1712433600@monthavenarts.org
SUMMARY:Art Opening and Artist Talks: Folsom Redemption
DESCRIPTION:Photography lovers and music enthusiasts alike are invited to the opening of a major new exhibition titled 1968: A Folsom Redemption. Writer Gene Beley\, who was with Johnny Cash at his famous Folsom Prison concerts\, will be on hand from 2 to 3 p.m. and 5 to 6 p.m. for an Artist Talk. Admission is free to hear his fascinating first-hand account of Johnny Cash’s unforgettable performances. The official Art Opening will be 6 to 8 p.m. inside Monthaven Arts and Cultural Center’s Papillon Gallery. Sumner County Tourism is sponsoring 1968: A Folsom Redemption locally as part of its Historic Sites Kickoff from April 5-7\, 2024. For detailed information and a schedule of events\, go to visitsumnertn.com.
URL:https://monthavenarts.org/event/art-opening-and-artist-talks-folsom-redemption/
LOCATION:Monthaven Arts and Cultural Center\, 1017 Antebellum Circle\, Hendersonville\, 37075\, United States
CATEGORIES:Events
ATTACH;FMTTYPE=image/jpeg:https://monthavenarts.org/wp-content/uploads/2024/03/Cash-on-stage.jpg
END:VEVENT
END:VCALENDAR