BEGIN:VCALENDAR
VERSION:2.0
PRODID:-//Monthaven Art and Cultural Center - ECPv6.15.20//NONSGML v1.0//EN
CALSCALE:GREGORIAN
METHOD:PUBLISH
X-WR-CALNAME:Monthaven Art and Cultural Center
X-ORIGINAL-URL:https://monthavenarts.org
X-WR-CALDESC:Events for Monthaven Art and Cultural Center
REFRESH-INTERVAL;VALUE=DURATION:PT1H
X-Robots-Tag:noindex
X-PUBLISHED-TTL:PT1H
BEGIN:VTIMEZONE
TZID:America/Chicago
BEGIN:DAYLIGHT
TZOFFSETFROM:-0600
TZOFFSETTO:-0500
TZNAME:CDT
DTSTART:20240310T080000
END:DAYLIGHT
BEGIN:STANDARD
TZOFFSETFROM:-0500
TZOFFSETTO:-0600
TZNAME:CST
DTSTART:20241103T070000
END:STANDARD
BEGIN:DAYLIGHT
TZOFFSETFROM:-0600
TZOFFSETTO:-0500
TZNAME:CDT
DTSTART:20250309T080000
END:DAYLIGHT
BEGIN:STANDARD
TZOFFSETFROM:-0500
TZOFFSETTO:-0600
TZNAME:CST
DTSTART:20251102T070000
END:STANDARD
BEGIN:DAYLIGHT
TZOFFSETFROM:-0600
TZOFFSETTO:-0500
TZNAME:CDT
DTSTART:20260308T080000
END:DAYLIGHT
BEGIN:STANDARD
TZOFFSETFROM:-0500
TZOFFSETTO:-0600
TZNAME:CST
DTSTART:20261101T070000
END:STANDARD
END:VTIMEZONE
BEGIN:VEVENT
DTSTART;TZID=America/Chicago:20251129T140000
DTEND;TZID=America/Chicago:20251129T210000
DTSTAMP:20260421T051520
CREATED:20250226T204351Z
LAST-MODIFIED:20251111T161927Z
UID:12826-1764424800-1764450000@monthavenarts.org
SUMMARY:Merry Monthaven 2025
DESCRIPTION:Celebrate the season at our 4th Annual Merry Monthaven Christmas — a festive evening full of holiday spirit\, art and music. Events include our annual tree lighting and caroling starting around 4:30 p.m.\, followed by a special Christmas concert with Pam Tillis (starts around 6 p.m.). There will also be community mural painting\, pictures with Santa (4-7 p.m.)\, and a holiday artisan market where you can shop for handmade gifts and find local treasures. Food trucks and beverage vendors will be on hand. Visitors will also get to see the MACC’s exhibit Bringing Disney to Life: The Artistry of James Coleman and our Dreaming of an Artful Christmas exhibit. The event is free and open to the public. Call (615) 822-0789 for information. Sponsored by Park West Foundation\, Ponce Law\, Spencer Fane\, Puryear Farms\, Hunt Tree Company\, Sentry Steel.
URL:https://monthavenarts.org/event/merry-monthaven-2025/
LOCATION:Monthaven Arts and Cultural Center\, 1017 Antebellum Circle\, Hendersonville\, 37075\, United States
CATEGORIES:Events
ATTACH;FMTTYPE=image/webp:https://monthavenarts.org/wp-content/uploads/2025/02/merry-monthaven-25.webp
END:VEVENT
END:VCALENDAR