BEGIN:VCALENDAR
VERSION:2.0
PRODID:-//Monthaven Art and Cultural Center - ECPv6.15.20//NONSGML v1.0//EN
CALSCALE:GREGORIAN
METHOD:PUBLISH
X-WR-CALNAME:Monthaven Art and Cultural Center
X-ORIGINAL-URL:https://monthavenarts.org
X-WR-CALDESC:Events for Monthaven Art and Cultural Center
REFRESH-INTERVAL;VALUE=DURATION:PT1H
X-Robots-Tag:noindex
X-PUBLISHED-TTL:PT1H
BEGIN:VTIMEZONE
TZID:UTC
BEGIN:STANDARD
TZOFFSETFROM:+0000
TZOFFSETTO:+0000
TZNAME:UTC
DTSTART:20250101T000000
END:STANDARD
END:VTIMEZONE
BEGIN:VEVENT
DTSTART;TZID=UTC:20260328T110000
DTEND;TZID=UTC:20260328T123000
DTSTAMP:20260421T005935
CREATED:20251229T192123Z
LAST-MODIFIED:20260202T181802Z
UID:15667-1774695600-1774701000@monthavenarts.org
SUMMARY:Healing Arts Workshop:  Connecting Through Rhythm and Breath: A Music Workshop for Everyone - With Dave Isaacs and Liz Johnson
DESCRIPTION:Healing Arts Workshop: Expressionist Self-Portraits - With Fiona Capuano/Saturday May16th 10:30 am - 12:30pm		\n				\n				\n				\n																										\n				\n				\n				\n							Explore the powerful world of expressionist art—where color\, shape\, and emotion take center stage. Through guided writing prompts and intuitive painting\, you’ll create a personal self-portrait that reflects not only how you may look\, but how you feel.Using paint\, mixed media\, and bold creative choices\, you’ll translate your mood onto the canvas—no rules\, no perfection\, just honest expression. Leave with a one-of-a-kind piece of art and a deeper connection to yourself.No art or writing experience needed—just curiosity and a willingness to explore. 						\n				\n				\n				\n					\n			\n						\n									Click here to register\n					\n					\n		\n				\n				\n				\n				\n			\n	\n		\n\n	\n	Add to calendar	\n		\n	\n\n		\n			\n									\n	Google Calendar\n\n									\n	iCalendar\n\n									\n	Outlook 365\n\n									\n	Outlook Live
URL:https://monthavenarts.org/event/healing-arts-workshop-connecting-through-rhythm-and-breath-a-music-workshop-for-everyone-with-dave-isaacs-and-liz-johnson-2/
LOCATION:Monthaven Arts and Cultural Center\, 1017 Antebellum Circle\, Hendersonville\, 37075\, United States
CATEGORIES:Events
ATTACH;FMTTYPE=image/png:https://monthavenarts.org/wp-content/uploads/2025/12/Jan-Music-HA-Wksp-1.png
ORGANIZER;CN="Monthaven Arts and Cultural Center":MAILTO:admin@themacctn.org
END:VEVENT
END:VCALENDAR