BEGIN:VCALENDAR
VERSION:2.0
PRODID:-//Monthaven Art and Cultural Center - ECPv6.15.20//NONSGML v1.0//EN
CALSCALE:GREGORIAN
METHOD:PUBLISH
X-WR-CALNAME:Monthaven Art and Cultural Center
X-ORIGINAL-URL:https://monthavenarts.org
X-WR-CALDESC:Events for Monthaven Art and Cultural Center
REFRESH-INTERVAL;VALUE=DURATION:PT1H
X-Robots-Tag:noindex
X-PUBLISHED-TTL:PT1H
BEGIN:VTIMEZONE
TZID:America/Chicago
BEGIN:DAYLIGHT
TZOFFSETFROM:-0600
TZOFFSETTO:-0500
TZNAME:CDT
DTSTART:20240310T080000
END:DAYLIGHT
BEGIN:STANDARD
TZOFFSETFROM:-0500
TZOFFSETTO:-0600
TZNAME:CST
DTSTART:20241103T070000
END:STANDARD
BEGIN:DAYLIGHT
TZOFFSETFROM:-0600
TZOFFSETTO:-0500
TZNAME:CDT
DTSTART:20250309T080000
END:DAYLIGHT
BEGIN:STANDARD
TZOFFSETFROM:-0500
TZOFFSETTO:-0600
TZNAME:CST
DTSTART:20251102T070000
END:STANDARD
BEGIN:DAYLIGHT
TZOFFSETFROM:-0600
TZOFFSETTO:-0500
TZNAME:CDT
DTSTART:20260308T080000
END:DAYLIGHT
BEGIN:STANDARD
TZOFFSETFROM:-0500
TZOFFSETTO:-0600
TZNAME:CST
DTSTART:20261101T070000
END:STANDARD
END:VTIMEZONE
BEGIN:VEVENT
DTSTART;TZID=America/Chicago:20250719T180000
DTEND;TZID=America/Chicago:20250719T200000
DTSTAMP:20260423T094304
CREATED:20250702T034302Z
LAST-MODIFIED:20250702T034302Z
UID:13868-1752948000-1752955200@monthavenarts.org
SUMMARY:Rescued: Opening Reception
DESCRIPTION:Lunch & Learn: From Photo to Canvas: Finding Your Voice Through Line & Color - with Dayo Johnson -\nMarch 20th/11:00 - 1:00 OR March 21st/11:00 - 1:00		\n				\n				\n				\n																										\n				\n				\n				\n							Inspired by the expressive poster work of Henri de Toulous-Lautrec\, this beginner class invites students to transform a personal photograph into a painted portrait. Led by artist Dayo Johnson\, students will trace and transfer their image (or any image) onto canvas and then explore  bold outlines\, simplified backgrounds and layered color to create a portrait that blends historical inspiration with their own artistic voice. All materials are provided\, but please bring an 8×10 printout of a portrait or photograph to work from. It can be color  or black and white. *Lunch and Learns are 1 day only\, so choose either Friday or Saturday* **ALL SUPPLIES / LIGHT LUNCH PROVIDED** 						\n				\n				\n				\n					\n			\n						\n									Click here to register\n					\n					\n		\n				\n				\n				\n				\n			\n	\n		\n\n	\n	Add to calendar	\n		\n	\n\n		\n			\n									\n	Google Calendar\n\n									\n	iCalendar\n\n									\n	Outlook 365\n\n									\n	Outlook Live
URL:https://monthavenarts.org/event/rescued-opening-reception/
LOCATION:Monthaven Arts and Cultural Center\, 1017 Antebellum Circle\, Hendersonville\, 37075\, United States
CATEGORIES:Events
ATTACH;FMTTYPE=image/webp:https://monthavenarts.org/wp-content/uploads/2025/07/Dustin-event.webp
END:VEVENT
END:VCALENDAR