BEGIN:VCALENDAR
VERSION:2.0
PRODID:-//Monthaven Art and Cultural Center - ECPv6.15.20//NONSGML v1.0//EN
CALSCALE:GREGORIAN
METHOD:PUBLISH
X-WR-CALNAME:Monthaven Art and Cultural Center
X-ORIGINAL-URL:https://monthavenarts.org
X-WR-CALDESC:Events for Monthaven Art and Cultural Center
REFRESH-INTERVAL;VALUE=DURATION:PT1H
X-Robots-Tag:noindex
X-PUBLISHED-TTL:PT1H
BEGIN:VTIMEZONE
TZID:America/Chicago
BEGIN:DAYLIGHT
TZOFFSETFROM:-0600
TZOFFSETTO:-0500
TZNAME:CDT
DTSTART:20240310T080000
END:DAYLIGHT
BEGIN:STANDARD
TZOFFSETFROM:-0500
TZOFFSETTO:-0600
TZNAME:CST
DTSTART:20241103T070000
END:STANDARD
BEGIN:DAYLIGHT
TZOFFSETFROM:-0600
TZOFFSETTO:-0500
TZNAME:CDT
DTSTART:20250309T080000
END:DAYLIGHT
BEGIN:STANDARD
TZOFFSETFROM:-0500
TZOFFSETTO:-0600
TZNAME:CST
DTSTART:20251102T070000
END:STANDARD
BEGIN:DAYLIGHT
TZOFFSETFROM:-0600
TZOFFSETTO:-0500
TZNAME:CDT
DTSTART:20260308T080000
END:DAYLIGHT
BEGIN:STANDARD
TZOFFSETFROM:-0500
TZOFFSETTO:-0600
TZNAME:CST
DTSTART:20261101T070000
END:STANDARD
END:VTIMEZONE
BEGIN:VEVENT
DTSTART;TZID=America/Chicago:20250125T150000
DTEND;TZID=America/Chicago:20250125T180000
DTSTAMP:20260422T100404
CREATED:20250101T205511Z
LAST-MODIFIED:20250101T205511Z
UID:12251-1737817200-1737828000@monthavenarts.org
SUMMARY:"Art of the Buzz" Tailgate Party
DESCRIPTION:Step into the world of tabletop sports as we kick off the Art of the Buzz exhibit with a tailgate-style celebration! Generations of kids grew up cheering as tiny football figures raced across a vibrating gridiron. Now\, it’s your turn to relive those moments at this fun exhibit\, which features over 25 vintage electric football games and the innovations that kept this iconic sport buzzing through the decades. \nWhat to Expect:\n• Tailgate Party Atmosphere: Savor delicious tailgate-inspired tastings\, courtesy of Bryson McCarley State Farm.\n• Exhibit Highlights: Dive into the history\, stories\, and groundbreaking technology of electric football.\n• Local Touch: View photographs capturing unforgettable football moments from local high schools\, featuring the images of local photographer Rick Murray. \nBe sure to bring your game-day spirit! Wear football jerseys and team colors. This interactive cultural experience is your chance to test your skills on the electric football field\, just in time for Super Bowl LIX!
URL:https://monthavenarts.org/event/art-of-the-buzz-tailgate-party/
LOCATION:Monthaven Arts and Cultural Center\, 1017 Antebellum Circle\, Hendersonville\, 37075\, United States
CATEGORIES:Events
ATTACH;FMTTYPE=image/webp:https://monthavenarts.org/wp-content/uploads/2025/01/Art-of-the-Buzz-Feature.webp
END:VEVENT
END:VCALENDAR