BEGIN:VCALENDAR
VERSION:2.0
PRODID:-//Monthaven Art and Cultural Center - ECPv6.15.20//NONSGML v1.0//EN
CALSCALE:GREGORIAN
METHOD:PUBLISH
X-WR-CALNAME:Monthaven Art and Cultural Center
X-ORIGINAL-URL:https://monthavenarts.org
X-WR-CALDESC:Events for Monthaven Art and Cultural Center
REFRESH-INTERVAL;VALUE=DURATION:PT1H
X-Robots-Tag:noindex
X-PUBLISHED-TTL:PT1H
BEGIN:VTIMEZONE
TZID:America/Chicago
BEGIN:DAYLIGHT
TZOFFSETFROM:-0600
TZOFFSETTO:-0500
TZNAME:CDT
DTSTART:20240310T080000
END:DAYLIGHT
BEGIN:STANDARD
TZOFFSETFROM:-0500
TZOFFSETTO:-0600
TZNAME:CST
DTSTART:20241103T070000
END:STANDARD
BEGIN:DAYLIGHT
TZOFFSETFROM:-0600
TZOFFSETTO:-0500
TZNAME:CDT
DTSTART:20250309T080000
END:DAYLIGHT
BEGIN:STANDARD
TZOFFSETFROM:-0500
TZOFFSETTO:-0600
TZNAME:CST
DTSTART:20251102T070000
END:STANDARD
BEGIN:DAYLIGHT
TZOFFSETFROM:-0600
TZOFFSETTO:-0500
TZNAME:CDT
DTSTART:20260308T080000
END:DAYLIGHT
BEGIN:STANDARD
TZOFFSETFROM:-0500
TZOFFSETTO:-0600
TZNAME:CST
DTSTART:20261101T070000
END:STANDARD
END:VTIMEZONE
BEGIN:VEVENT
DTSTART;TZID=America/Chicago:20251214T140000
DTEND;TZID=America/Chicago:20251214T210000
DTSTAMP:20260421T064349
CREATED:20250823T011518Z
LAST-MODIFIED:20250828T185840Z
UID:14442-1765720800-1765746000@monthavenarts.org
SUMMARY:Heritage Music Series: Appalachian Road Show
DESCRIPTION:Heritage Music Series: Appalachian Road Show		\n				\n				\n				\n			2 p.m. and 6 p.m. Sunday\, Dec. 14. 2025 at the MACC\, $75 and $100		\n				\n				\n				\n																										\n				\n				\n				\n							The sweet sounds of Appalachia are coming to the Monthaven Arts and Cultural Center as part of our Heritage Music Series. Appalachian Road Show\, a visionary acoustic ensemble\, will perform in a Bluebird Café-like setting at the MACC. The ensemble is known for its new-generation interpretations of traditional Americana\, bluegrass and folk songs. Led by Grammy-nominated banjoist Barry Abernathy and Grammy-winning fiddle player Jim VanCleve\, Appalachian Road Show invites us to stop by\, sit a spell\, and enjoy traditional music and storytelling presented in an entirely new way. The MACC’s Heritage Music Series presents intimate house concerts inside Monthaven’s gorgeous art museum. Musicians who’ve shaped music across genres perform in galleries filled with art to audience of less than 50\, who enjoy an elevated Southern meal. Seating is limited for the two performances at 2 p.m. and 6 p.m. To register\, click the button below. For more information\, call (615) 822-0789.  						\n				\n				\n				\n					\n			\n						\n									Click here\n					\n					\n		\n				\n				\n				\n				\n			\n	\n		\n\n	\n	Add to calendar	\n		\n	\n\n		\n			\n									\n	Google Calendar\n\n									\n	iCalendar\n\n									\n	Outlook 365\n\n									\n	Outlook Live
URL:https://monthavenarts.org/event/heritage-music-series-appalachian-road-show/
LOCATION:Monthaven Arts and Cultural Center\, 1017 Antebellum Circle\, Hendersonville\, 37075\, United States
CATEGORIES:Events
ATTACH;FMTTYPE=image/webp:https://monthavenarts.org/wp-content/uploads/2025/08/Appalachian-Road-Show.webp
END:VEVENT
END:VCALENDAR