BEGIN:VCALENDAR
VERSION:2.0
PRODID:-//Monthaven Art and Cultural Center - ECPv6.15.20//NONSGML v1.0//EN
CALSCALE:GREGORIAN
METHOD:PUBLISH
X-WR-CALNAME:Monthaven Art and Cultural Center
X-ORIGINAL-URL:https://monthavenarts.org
X-WR-CALDESC:Events for Monthaven Art and Cultural Center
REFRESH-INTERVAL;VALUE=DURATION:PT1H
X-Robots-Tag:noindex
X-PUBLISHED-TTL:PT1H
BEGIN:VTIMEZONE
TZID:America/Chicago
BEGIN:DAYLIGHT
TZOFFSETFROM:-0600
TZOFFSETTO:-0500
TZNAME:CDT
DTSTART:20240310T080000
END:DAYLIGHT
BEGIN:STANDARD
TZOFFSETFROM:-0500
TZOFFSETTO:-0600
TZNAME:CST
DTSTART:20241103T070000
END:STANDARD
BEGIN:DAYLIGHT
TZOFFSETFROM:-0600
TZOFFSETTO:-0500
TZNAME:CDT
DTSTART:20250309T080000
END:DAYLIGHT
BEGIN:STANDARD
TZOFFSETFROM:-0500
TZOFFSETTO:-0600
TZNAME:CST
DTSTART:20251102T070000
END:STANDARD
BEGIN:DAYLIGHT
TZOFFSETFROM:-0600
TZOFFSETTO:-0500
TZNAME:CDT
DTSTART:20260308T080000
END:DAYLIGHT
BEGIN:STANDARD
TZOFFSETFROM:-0500
TZOFFSETTO:-0600
TZNAME:CST
DTSTART:20261101T070000
END:STANDARD
END:VTIMEZONE
BEGIN:VEVENT
DTSTART;TZID=America/Chicago:20250322T180000
DTEND;TZID=America/Chicago:20250322T210000
DTSTAMP:20260421T010259
CREATED:20250219T192419Z
LAST-MODIFIED:20250220T044104Z
UID:12712-1742666400-1742677200@monthavenarts.org
SUMMARY:Monthaven's Night at the Opera
DESCRIPTION:Monthaven's A Night at the OperaMarch 22 @ 6:00 pm - 9:00 pm $75		\n				\n				\n				\n																										\n				\n				\n				\n							Join us for a night of beautiful music and fine dining as we present another installment of Monthaven’s Night at the Opera. Vocalists from Nashville Opera will perform selections from the company’s spring production of Donizetti’s Lucia: The Bride of Lammermoor. Inspired by a novel by Sir Walter Scott\, Lucia is best known for its famous “Mad Scene.” (The heart-rending aria you hear in the Bruce Willis Sci-Fi classic The Fifth Element – yep\, that’s “Mad Scene” music from Lucia.) Nashville Opera vocalists Claire Paschal (soprano)\, Sara Crigger (mezzo-soprano)\, and Ryan Bede (baritone) will also survey other beloved Italian arias as our guests enjoy a gourmet dinner and fine drinks in an intimate art gallery setting. Seating is limited\, so secure your tickets now. 						\n				\n				\n				\n					\n			\n						\n									Tickets\n					\n					\n		\n				\n				\n				\n				\n			\n	\n		\n\n	\n	Add to calendar	\n		\n	\n\n		\n			\n									\n	Google Calendar\n\n									\n	iCalendar\n\n									\n	Outlook 365\n\n									\n	Outlook Live\n\n							\n		\n\n		\n	\n\n		\n				\n				\n				\n			\n		\n			March 22\n\n	\n\n	 @ \n\n\n6:00 pm\n\n		\n\n\n\n	\n	 - \n\n9:00 pm\n\n\n\n	\n		\n				\n				\n				\n			\n				\n				\n	\n	Monthaven Arts and Cultural Center\n	\n	\n\n1017 Antebellum Circle\n	\n		\n		Hendersonville\,\n\n\n	37075\n\n	United States\n\n\n\n\n	+ Google Map \n\n\n	\n					\n			615-822-0789			\n	 \n\n\n	\n	View Venue Website
URL:https://monthavenarts.org/event/monthavens-night-at-the-opera/
LOCATION:Monthaven Arts and Cultural Center\, 1017 Antebellum Circle\, Hendersonville\, 37075\, United States
CATEGORIES:Events
ATTACH;FMTTYPE=image/webp:https://monthavenarts.org/wp-content/uploads/2025/02/night-at-the-opera-lucia.webp
END:VEVENT
END:VCALENDAR