BEGIN:VCALENDAR
VERSION:2.0
PRODID:-//Monthaven Art and Cultural Center - ECPv6.15.20//NONSGML v1.0//EN
CALSCALE:GREGORIAN
METHOD:PUBLISH
X-WR-CALNAME:Monthaven Art and Cultural Center
X-ORIGINAL-URL:https://monthavenarts.org
X-WR-CALDESC:Events for Monthaven Art and Cultural Center
REFRESH-INTERVAL;VALUE=DURATION:PT1H
X-Robots-Tag:noindex
X-PUBLISHED-TTL:PT1H
BEGIN:VTIMEZONE
TZID:America/Chicago
BEGIN:DAYLIGHT
TZOFFSETFROM:-0600
TZOFFSETTO:-0500
TZNAME:CDT
DTSTART:20240310T080000
END:DAYLIGHT
BEGIN:STANDARD
TZOFFSETFROM:-0500
TZOFFSETTO:-0600
TZNAME:CST
DTSTART:20241103T070000
END:STANDARD
BEGIN:DAYLIGHT
TZOFFSETFROM:-0600
TZOFFSETTO:-0500
TZNAME:CDT
DTSTART:20250309T080000
END:DAYLIGHT
BEGIN:STANDARD
TZOFFSETFROM:-0500
TZOFFSETTO:-0600
TZNAME:CST
DTSTART:20251102T070000
END:STANDARD
BEGIN:DAYLIGHT
TZOFFSETFROM:-0600
TZOFFSETTO:-0500
TZNAME:CDT
DTSTART:20260308T080000
END:DAYLIGHT
BEGIN:STANDARD
TZOFFSETFROM:-0500
TZOFFSETTO:-0600
TZNAME:CST
DTSTART:20261101T070000
END:STANDARD
END:VTIMEZONE
BEGIN:VEVENT
DTSTART;TZID=America/Chicago:20251121T110000
DTEND;TZID=America/Chicago:20251121T130000
DTSTAMP:20260420T211905
CREATED:20251103T183736Z
LAST-MODIFIED:20251106T174758Z
UID:15111-1763722800-1763730000@monthavenarts.org
SUMMARY:Lunch and Learn - Polymer Clay Disney Ornaments with Hoppy Highhat\, November 21st 11:00 - 1:00  or November 22nd 11:00 - 1:00
DESCRIPTION:Lunch and Learn -Polymer Clay Disney Ornaments with Hoppy Highhat  (November 21st 11:00 - 1:00  or November 22nd 11:00 - 1:00)  		\n				\n				\n				\n																										\n				\n				\n				\n							Immerse yourself in “the most magical place on earth” and explore the art form of polymer clay.  In this two-hour class\, you’ll learn how to sculpt an ornament using cut outs and the most magical tools\, your own hands. You’ll be guided\, step-by-step\, through the cut-and-assemble method and then finish by manipulating the cut outs to create your unique ornament. Choose from two characters\, Mickey or Minnie.  Awaken your inner child in this fun\, colorful and animated class. All materials are provided — including polymer clay\, sculpting tools and shape cutters. WHEN:Friday\, November 21st from 11:00 am -1:00 pm  OR  Saturday\, November 22nd from 11:00 am -1:00 pm *Lunch and Learns are 1 day only\, so choose either Friday or Saturday* **ALL SUPPLIES / LIGHT LUNCH PROVIDED** 						\n				\n				\n				\n					\n			\n						\n									Purchase tickets here\n					\n					\n		\n				\n				\n				\n				\n			\n	\n		\n\n	\n	Add to calendar	\n		\n	\n\n		\n			\n									\n	Google Calendar\n\n									\n	iCalendar\n\n									\n	Outlook 365\n\n									\n	Outlook Live
URL:https://monthavenarts.org/event/lunch-and-learn-polymer-clay-disney-ornaments-with-hoppy-highhat-november-21st-1100-100-or-november-22nd-1100-100/
LOCATION:Monthaven Arts and Cultural Center\, 1017 Antebellum Circle\, Hendersonville\, 37075\, United States
CATEGORIES:Events
ATTACH;FMTTYPE=image/png:https://monthavenarts.org/wp-content/uploads/2025/11/Lunch-Learn-1.png
END:VEVENT
END:VCALENDAR