BEGIN:VCALENDAR
VERSION:2.0
PRODID:-//Monthaven Art and Cultural Center - ECPv6.15.20//NONSGML v1.0//EN
CALSCALE:GREGORIAN
METHOD:PUBLISH
X-WR-CALNAME:Monthaven Art and Cultural Center
X-ORIGINAL-URL:https://monthavenarts.org
X-WR-CALDESC:Events for Monthaven Art and Cultural Center
REFRESH-INTERVAL;VALUE=DURATION:PT1H
X-Robots-Tag:noindex
X-PUBLISHED-TTL:PT1H
BEGIN:VTIMEZONE
TZID:America/Chicago
BEGIN:DAYLIGHT
TZOFFSETFROM:-0600
TZOFFSETTO:-0500
TZNAME:CDT
DTSTART:20240310T080000
END:DAYLIGHT
BEGIN:STANDARD
TZOFFSETFROM:-0500
TZOFFSETTO:-0600
TZNAME:CST
DTSTART:20241103T070000
END:STANDARD
BEGIN:DAYLIGHT
TZOFFSETFROM:-0600
TZOFFSETTO:-0500
TZNAME:CDT
DTSTART:20250309T080000
END:DAYLIGHT
BEGIN:STANDARD
TZOFFSETFROM:-0500
TZOFFSETTO:-0600
TZNAME:CST
DTSTART:20251102T070000
END:STANDARD
BEGIN:DAYLIGHT
TZOFFSETFROM:-0600
TZOFFSETTO:-0500
TZNAME:CDT
DTSTART:20260308T080000
END:DAYLIGHT
BEGIN:STANDARD
TZOFFSETFROM:-0500
TZOFFSETTO:-0600
TZNAME:CST
DTSTART:20261101T070000
END:STANDARD
END:VTIMEZONE
BEGIN:VEVENT
DTSTART;TZID=America/Chicago:20250425T103000
DTEND;TZID=America/Chicago:20250425T123000
DTSTAMP:20260420T211905
CREATED:20250305T224219Z
LAST-MODIFIED:20250306T180408Z
UID:12993-1745577000-1745584200@monthavenarts.org
SUMMARY:Lunch and Learn - Finding Your YES: A Color Mixing Exploration with Tony Sobota\, April 25th or April 26th
DESCRIPTION:Lunch and Learn - Finding Your YES: A Color Mixing Exploration (April 25th or April 26th)		\n				\n				\n				\n																										\n				\n				\n				\n							Discover the magic of color in this hands-on acrylic painting session! Students will explore color mixing through a guided exercise\, helping them identify the hues that feel like a resounding “YES” to them. Using a photo reference and a color wheel\, they will learn practical techniques for blending and matching colors with confidence. By the end of the session\, each student will have created a personalized grid showcasing their favorite color discoveries—an inspiring tool for future artistic projects! *Lunch and Learns are 1 day only\, so choose either Friday or Saturday* **ALL SUPPLIES / LIGHT LUNCH PROVIDED** 						\n				\n				\n				\n					\n			\n						\n									Purchase tickets here\n					\n					\n		\n				\n				\n				\n				\n			\n	\n		\n\n	\n	Add to calendar	\n		\n	\n\n		\n			\n									\n	Google Calendar\n\n									\n	iCalendar\n\n									\n	Outlook 365\n\n									\n	Outlook Live
URL:https://monthavenarts.org/event/lunch-and-learn-finding-your-yes-a-color-mixing-exploration-with-tony-sobota-april-25th-or-april-26th/
LOCATION:Monthaven Arts and Cultural Center\, 1017 Antebellum Circle\, Hendersonville\, 37075\, United States
CATEGORIES:Events
ATTACH;FMTTYPE=image/webp:https://monthavenarts.org/wp-content/uploads/2025/03/Dark-Green-Geometric-Art-Classes-Trifold-Brochure-1.webp
END:VEVENT
END:VCALENDAR