BEGIN:VCALENDAR
VERSION:2.0
PRODID:-//Monthaven Art and Cultural Center - ECPv6.15.20//NONSGML v1.0//EN
CALSCALE:GREGORIAN
METHOD:PUBLISH
X-WR-CALNAME:Monthaven Art and Cultural Center
X-ORIGINAL-URL:https://monthavenarts.org
X-WR-CALDESC:Events for Monthaven Art and Cultural Center
REFRESH-INTERVAL;VALUE=DURATION:PT1H
X-Robots-Tag:noindex
X-PUBLISHED-TTL:PT1H
BEGIN:VTIMEZONE
TZID:America/Chicago
BEGIN:DAYLIGHT
TZOFFSETFROM:-0600
TZOFFSETTO:-0500
TZNAME:CDT
DTSTART:20240310T080000
END:DAYLIGHT
BEGIN:STANDARD
TZOFFSETFROM:-0500
TZOFFSETTO:-0600
TZNAME:CST
DTSTART:20241103T070000
END:STANDARD
BEGIN:DAYLIGHT
TZOFFSETFROM:-0600
TZOFFSETTO:-0500
TZNAME:CDT
DTSTART:20250309T080000
END:DAYLIGHT
BEGIN:STANDARD
TZOFFSETFROM:-0500
TZOFFSETTO:-0600
TZNAME:CST
DTSTART:20251102T070000
END:STANDARD
BEGIN:DAYLIGHT
TZOFFSETFROM:-0600
TZOFFSETTO:-0500
TZNAME:CDT
DTSTART:20260308T080000
END:DAYLIGHT
BEGIN:STANDARD
TZOFFSETFROM:-0500
TZOFFSETTO:-0600
TZNAME:CST
DTSTART:20261101T070000
END:STANDARD
END:VTIMEZONE
BEGIN:VEVENT
DTSTART;TZID=America/Chicago:20251030T180000
DTEND;TZID=America/Chicago:20251030T210000
DTSTAMP:20260422T053448
CREATED:20250823T004136Z
LAST-MODIFIED:20250823T004212Z
UID:14426-1761847200-1761858000@monthavenarts.org
SUMMARY:Heritage Music Series: John Ford Coley
DESCRIPTION:Heritage Music Series: John Ford Coley		\n				\n				\n				\n			6 to 9 p.m. Thursday\, Oct. 30\, 2025 at the MACC\, $100		\n				\n				\n				\n																										\n				\n				\n				\n							\nJohn Ford Coley headlines this Heritage Music Series concert at the MACC. Best known for his role in the Grammy-nominated duo England Dan and John Ford Coley\, this noted American singer\, guitarist\, classically trained pianist\, actor and author contributed significantly to the soundtrack of a generation. His many memorable hits include “Love Is The Answer\,” “I’d Really Love To See You Tonight\,” “We’ll Never Have To Say Goodbye Again” and “Nights Are Forever Without You.” Coley moved to Tennessee in 1999 because he loved the Nashville music community. He is thrilled to bring his music to the MACC.  \nThe MACC’s Heritage Music Series presents intimate house concerts inside Monthaven’s gorgeous art museum. Musicians who’ve shaped music across genres perform in galleries filled with art to audience of less than 50\, who enjoy an elevated Southern meal. Performances sellout quickly\, so reserve your tickets by clicking the button below. For more information\, call (615) 822-0789. \n						\n				\n				\n				\n					\n			\n						\n									Click here\n					\n					\n		\n				\n				\n				\n				\n			\n	\n		\n\n	\n	Add to calendar	\n		\n	\n\n		\n			\n									\n	Google Calendar\n\n									\n	iCalendar\n\n									\n	Outlook 365\n\n									\n	Outlook Live
URL:https://monthavenarts.org/event/heritage-music-series-john-ford-coley/
LOCATION:Monthaven Arts and Cultural Center\, 1017 Antebellum Circle\, Hendersonville\, 37075\, United States
CATEGORIES:Events
ATTACH;FMTTYPE=image/webp:https://monthavenarts.org/wp-content/uploads/2025/08/john-ford-coley.webp
END:VEVENT
END:VCALENDAR