BEGIN:VCALENDAR
VERSION:2.0
PRODID:-//Monthaven Art and Cultural Center - ECPv6.15.20//NONSGML v1.0//EN
CALSCALE:GREGORIAN
METHOD:PUBLISH
X-WR-CALNAME:Monthaven Art and Cultural Center
X-ORIGINAL-URL:https://monthavenarts.org
X-WR-CALDESC:Events for Monthaven Art and Cultural Center
REFRESH-INTERVAL;VALUE=DURATION:PT1H
X-Robots-Tag:noindex
X-PUBLISHED-TTL:PT1H
BEGIN:VTIMEZONE
TZID:America/Chicago
BEGIN:DAYLIGHT
TZOFFSETFROM:-0600
TZOFFSETTO:-0500
TZNAME:CDT
DTSTART:20240310T080000
END:DAYLIGHT
BEGIN:STANDARD
TZOFFSETFROM:-0500
TZOFFSETTO:-0600
TZNAME:CST
DTSTART:20241103T070000
END:STANDARD
BEGIN:DAYLIGHT
TZOFFSETFROM:-0600
TZOFFSETTO:-0500
TZNAME:CDT
DTSTART:20250309T080000
END:DAYLIGHT
BEGIN:STANDARD
TZOFFSETFROM:-0500
TZOFFSETTO:-0600
TZNAME:CST
DTSTART:20251102T070000
END:STANDARD
BEGIN:DAYLIGHT
TZOFFSETFROM:-0600
TZOFFSETTO:-0500
TZNAME:CDT
DTSTART:20260308T080000
END:DAYLIGHT
BEGIN:STANDARD
TZOFFSETFROM:-0500
TZOFFSETTO:-0600
TZNAME:CST
DTSTART:20261101T070000
END:STANDARD
END:VTIMEZONE
BEGIN:VEVENT
DTSTART;TZID=America/Chicago:20250925T180000
DTEND;TZID=America/Chicago:20250925T210000
DTSTAMP:20260421T033837
CREATED:20250823T001800Z
LAST-MODIFIED:20251003T032407Z
UID:14414-1758823200-1758834000@monthavenarts.org
SUMMARY:Heritage Music Series: John Carter Cash & Ana Cristina Cash
DESCRIPTION:Heritage Music Series: John Carter Cash & Ana Cristina Cash		\n				\n				\n				\n			6 to 9 p.m. Thursday Sept. 25\, 2025 at the MACC\, $100		\n				\n				\n				\n																										\n				\n				\n				\n							Monthaven Arts and Cultural Center inaugurates its Heritage Music Series with a concert featuring John Carter Cash and Ana Cristina Cash. John Carter Cash is an award-winning record producer\, film producer\, writer\, director and singer-songwriter. As a Grammy-winning producer\, Cash has worked with Elvis Costello\, Brooks & Dunn\, Kris Kristofferson\, Emmylou Harris\, John Prine and more. His album The Family Secret received rave reviews from Rolling Stone Magazine. His new album Pineapple John is available Sept. 12\, 2025. Ana Cristina Cash signed her first record deal (with Sony Music) at age 15. Among her notable albums is 2020’s Shine\, featuring songs she wrote in collaboration with John Carter Cash and others. The album draws heavily from blues\, rock\, country and Americana. The MACC’s Heritage Music Series presents intimate house concerts inside Monthaven’s gorgeous art museum. Musicians who’ve shaped music across genres perform in galleries filled with art to audience of less than 50\, who enjoy an elevated Southern meal. Performances sellout quickly\, so reserve your tickets by clicking the button below. For more information\, call (615) 822-0789.  						\n				\n				\n				\n					\n			\n						\n									Click here\n					\n					\n		\n				\n				\n				\n				\n			\n	\n		\n\n	\n	Add to calendar	\n		\n	\n\n		\n			\n									\n	Google Calendar\n\n									\n	iCalendar\n\n									\n	Outlook 365\n\n									\n	Outlook Live
URL:https://monthavenarts.org/event/heritage-music-series-john-carter-cash-ana-cristina-cash/
LOCATION:Monthaven Arts and Cultural Center\, 1017 Antebellum Circle\, Hendersonville\, 37075\, United States
CATEGORIES:Events
ATTACH;FMTTYPE=image/webp:https://monthavenarts.org/wp-content/uploads/2025/08/JohnAndAna.webp
END:VEVENT
END:VCALENDAR