BEGIN:VCALENDAR
VERSION:2.0
PRODID:-//Monthaven Art and Cultural Center - ECPv6.15.20//NONSGML v1.0//EN
CALSCALE:GREGORIAN
METHOD:PUBLISH
X-WR-CALNAME:Monthaven Art and Cultural Center
X-ORIGINAL-URL:https://monthavenarts.org
X-WR-CALDESC:Events for Monthaven Art and Cultural Center
REFRESH-INTERVAL;VALUE=DURATION:PT1H
X-Robots-Tag:noindex
X-PUBLISHED-TTL:PT1H
BEGIN:VTIMEZONE
TZID:America/Chicago
BEGIN:DAYLIGHT
TZOFFSETFROM:-0600
TZOFFSETTO:-0500
TZNAME:CDT
DTSTART:20250309T080000
END:DAYLIGHT
BEGIN:STANDARD
TZOFFSETFROM:-0500
TZOFFSETTO:-0600
TZNAME:CST
DTSTART:20251102T070000
END:STANDARD
BEGIN:DAYLIGHT
TZOFFSETFROM:-0600
TZOFFSETTO:-0500
TZNAME:CDT
DTSTART:20260308T080000
END:DAYLIGHT
BEGIN:STANDARD
TZOFFSETFROM:-0500
TZOFFSETTO:-0600
TZNAME:CST
DTSTART:20261101T070000
END:STANDARD
BEGIN:DAYLIGHT
TZOFFSETFROM:-0600
TZOFFSETTO:-0500
TZNAME:CDT
DTSTART:20270314T080000
END:DAYLIGHT
BEGIN:STANDARD
TZOFFSETFROM:-0500
TZOFFSETTO:-0600
TZNAME:CST
DTSTART:20271107T070000
END:STANDARD
END:VTIMEZONE
BEGIN:VEVENT
DTSTART;TZID=America/Chicago:20260416T180000
DTEND;TZID=America/Chicago:20260416T210000
DTSTAMP:20260420T041043
CREATED:20260206T032607Z
LAST-MODIFIED:20260206T033301Z
UID:15995-1776362400-1776373200@monthavenarts.org
SUMMARY:Heritage Music Series: Carlene Carter
DESCRIPTION:Heritage Music Series: Carlene Carter		\n				\n				\n				\n			6 to 9 p.m. Thursday\, April 16\, 2026 at the MACC $100		\n				\n				\n				\n																										\n				\n				\n				\n							Country music star Carlene Carter returns to the MACC to headline April’s Heritage Music Series concert. Carter has deep roots in country music. She’s the daughter of June Carter Cash and Carl Smith and the granddaughter of Maybelle Carter\, part of the original Carter Family that helped shape the genre. She’s recorded a dozen albums since 1978 and had hits like “I Fell in Love” and “Every Little Thing” in the ’90s. A versatile performer\, Carter blends country music with rock and Americana styles. Her performance at the MACC promises to be unforgettable. The MACC’s Heritage Music Series presents intimate house concerts inside Monthaven’s gorgeous art museum. Musicians who’ve shaped music across genres perform in galleries filled with art to audience of less than 50\, who enjoy an elevated Southern meal. Performances sellout quickly\, so reserve your tickets by clicking the button below. For more information\, call (615) 822-0789. 						\n				\n				\n				\n					\n			\n						\n									Click here\n					\n					\n		\n				\n				\n				\n				\n			\n	\n		\n\n	\n	Add to calendar	\n		\n	\n\n		\n			\n									\n	Google Calendar\n\n									\n	iCalendar\n\n									\n	Outlook 365\n\n									\n	Outlook Live
URL:https://monthavenarts.org/event/heritage-music-series-carlene-carter/
ATTACH;FMTTYPE=image/webp:https://monthavenarts.org/wp-content/uploads/2026/02/Carlene_Carter.webp
ORGANIZER;CN="Monthaven Arts and Cultural Center":MAILTO:admin@themacctn.org
END:VEVENT
END:VCALENDAR