BEGIN:VCALENDAR
VERSION:2.0
PRODID:-//Monthaven Art and Cultural Center - ECPv6.15.20//NONSGML v1.0//EN
CALSCALE:GREGORIAN
METHOD:PUBLISH
X-WR-CALNAME:Monthaven Art and Cultural Center
X-ORIGINAL-URL:https://monthavenarts.org
X-WR-CALDESC:Events for Monthaven Art and Cultural Center
REFRESH-INTERVAL;VALUE=DURATION:PT1H
X-Robots-Tag:noindex
X-PUBLISHED-TTL:PT1H
BEGIN:VTIMEZONE
TZID:UTC
BEGIN:STANDARD
TZOFFSETFROM:+0000
TZOFFSETTO:+0000
TZNAME:UTC
DTSTART:20240101T000000
END:STANDARD
END:VTIMEZONE
BEGIN:VEVENT
DTSTART;TZID=UTC:20251213T103000
DTEND;TZID=UTC:20251213T133000
DTSTAMP:20260420T213544
CREATED:20250922T214453Z
LAST-MODIFIED:20250922T214854Z
UID:14775-1765621800-1765632600@monthavenarts.org
SUMMARY:Healing Arts Workshop:  Threads That Bind Us: Weaving Stories of Connection - With Lisa Jennings
DESCRIPTION:Healing Arts:  Threads That Bind Us: Weaving Stories of Connection - With Lisa Jennings		\n				\n				\n				\n			December 13\, 2025 - 10:30 a.m. to 1:30 p.m. $50		\n				\n				\n				\n																										\n				\n				\n				\n							Join artist Lisa Jennings for this special seasonal workshop honoring International Human Solidarity Day celebrating our interconnectedness. Through employing the symbolic\, tactile act of weaving\, you will create a woven collage that visually expresses the invisible yet powerful bonds we share as humans—across cultures\, backgrounds\, and experiences. Using strips of hand-painted paper\, found paper\, threads\, fabric scraps\, and meaningful words\, you build layer upon layer bringing your interconnected stories to life.  Cost:  $50 *Please RSVP with the Book Online button below!* 						\n				\n				\n				\n					\n			\n						\n									Book Online\n					\n					\n		\n				\n				\n				\n				\n			\n	\n		\n\n	\n	Add to calendar	\n		\n	\n\n		\n			\n									\n	Google Calendar\n\n									\n	iCalendar\n\n									\n	Outlook 365\n\n									\n	Outlook Live
URL:https://monthavenarts.org/event/healing-arts-workshop-threads-that-bind-us-weaving-stories-of-connection-with-lisa-jennings/
LOCATION:Monthaven Arts and Cultural Center\, 1017 Antebellum Circle\, Hendersonville\, 37075\, United States
ATTACH;FMTTYPE=image/png:https://monthavenarts.org/wp-content/uploads/2025/09/Dec-Solidarity-HA-Wksp.png
ORGANIZER;CN="Monthaven Arts and Cultural Center":MAILTO:admin@themacctn.org
END:VEVENT
END:VCALENDAR