BEGIN:VCALENDAR
VERSION:2.0
PRODID:-//Monthaven Art and Cultural Center - ECPv6.15.20//NONSGML v1.0//EN
CALSCALE:GREGORIAN
METHOD:PUBLISH
X-WR-CALNAME:Monthaven Art and Cultural Center
X-ORIGINAL-URL:https://monthavenarts.org
X-WR-CALDESC:Events for Monthaven Art and Cultural Center
REFRESH-INTERVAL;VALUE=DURATION:PT1H
X-Robots-Tag:noindex
X-PUBLISHED-TTL:PT1H
BEGIN:VTIMEZONE
TZID:UTC
BEGIN:STANDARD
TZOFFSETFROM:+0000
TZOFFSETTO:+0000
TZNAME:UTC
DTSTART:20240101T000000
END:STANDARD
END:VTIMEZONE
BEGIN:VEVENT
DTSTART;TZID=UTC:20251115T123000
DTEND;TZID=UTC:20251115T153000
DTSTAMP:20260420T213410
CREATED:20250923T182844Z
LAST-MODIFIED:20251112T175346Z
UID:14785-1763209800-1763220600@monthavenarts.org
SUMMARY:Healing Arts Workshop:  Ripples of Kindness: Art as a Gentle Oﬀering - With Lisa Jennings
DESCRIPTION:Healing Arts:  Ripples of Kindness: Art as a Gentle Oﬀering\n - With Lisa Jennings		\n				\n				\n				\n			November 15\, 2025 - 12:30 p.m. to 3:30 p.m. $50		\n				\n				\n				\n																										\n				\n				\n				\n							Join artist Lisa Jennings in celebration of World Kindness Day. In this workshop\, you will create a heart-centered collage inviting you to explore and express your personal relationship with kindness—both the kindness you receive and the kindness you give. With the heart shape serving as a universal symbol of compassion\, care\, and emotional truth\, each collage becomes a mirror of how you carry\, offer\, and witness kindness in the world. In this workshop\, you will begin by tracing or freehand-drawing a large heart shape\, a heart that becomes the container for your reflections\, followed by incorporating a range of mixed media\, such as gentle hues\, handwritten affirmations\, meaningful textures\, and soft materials\, as you build your piece. You will come away with a uniquely layered piece that is emotionally resonant\, tactile\, and deeply personal.Cost:  $50 *Please RSVP with the Book Online button below!* 						\n				\n				\n				\n			\n	\n		\n\n	\n	Add to calendar	\n		\n	\n\n		\n			\n									\n	Google Calendar\n\n									\n	iCalendar\n\n									\n	Outlook 365\n\n									\n	Outlook Live\n\n							\n		\n\n		\n	\n\n		\n				\n				\n				\n					\n			\n						\n									Book Online
URL:https://monthavenarts.org/event/healing-arts-workshop-ripples-of-kindness-art-as-a-gentle-o%ef%ac%80ering-with-lisa-jennings/
LOCATION:Monthaven Arts and Cultural Center\, 1017 Antebellum Circle\, Hendersonville\, 37075\, United States
ATTACH;FMTTYPE=image/png:https://monthavenarts.org/wp-content/uploads/2025/09/Nov-Kindness-HA-Wksp.png
ORGANIZER;CN="Monthaven Arts and Cultural Center":MAILTO:admin@themacctn.org
END:VEVENT
END:VCALENDAR