BEGIN:VCALENDAR
VERSION:2.0
PRODID:-//Monthaven Art and Cultural Center - ECPv6.15.20//NONSGML v1.0//EN
CALSCALE:GREGORIAN
METHOD:PUBLISH
X-WR-CALNAME:Monthaven Art and Cultural Center
X-ORIGINAL-URL:https://monthavenarts.org
X-WR-CALDESC:Events for Monthaven Art and Cultural Center
REFRESH-INTERVAL;VALUE=DURATION:PT1H
X-Robots-Tag:noindex
X-PUBLISHED-TTL:PT1H
BEGIN:VTIMEZONE
TZID:UTC
BEGIN:STANDARD
TZOFFSETFROM:+0000
TZOFFSETTO:+0000
TZNAME:UTC
DTSTART:20240101T000000
END:STANDARD
END:VTIMEZONE
BEGIN:VEVENT
DTSTART;TZID=UTC:20250809T103000
DTEND;TZID=UTC:20250809T133000
DTSTAMP:20260420T215731
CREATED:20250716T155437Z
LAST-MODIFIED:20250806T203512Z
UID:13978-1754735400-1754746200@monthavenarts.org
SUMMARY:Healing Arts Workshop:  Embracing Imperfections: The Japanese Art of Kintsugi Healing Arts Workshop - With Kara Williamson
DESCRIPTION:Embracing Imperfections: The Japanese Art of Kintsugi Healing Arts Workshop - with Kara Williamson		\n				\n				\n				\n			August 9\, 2025 - 10:30 a.m. to 1:30 p.m. $50		\n				\n				\n				\n																										\n				\n				\n				\n							Have you ever experienced feeling broken and unsure how to move forward? Life’s challenges can leave us feeling shattered\, but they also offer a chance to build strength\, wisdom\, and resilience giving us the opportunity to generate a rich life story. Explore the transformative power of adversity through the Japanese art of Kintsugi. This beautiful technique repairs broken pottery with gold\, turning flaws into celebrated features. The result is a piece that’s stronger\, more beautiful\, and more valuable than before—just like us. What to Expect: Create Your Own Personal Piece: Repair and transform broken pottery into a unique work of art symbolizing your strength and resilience. Bring Your Own Piece or Use Ours: You can bring your own broken pottery or choose from our selection on-site. Share and Reflect: Engage in meaningful discussions about personal experiences\, insights\, and triumphs as we work through the creative process together. Join us and embrace your imperfections as we celebrate the beauty and strength that come from overcoming challenges. Cost:  $50 *Please RSVP with the Book Online button below!* 						\n				\n				\n				\n					\n			\n						\n									Book Online\n					\n					\n		\n				\n				\n				\n				\n			\n	\n		\n\n	\n	Add to calendar	\n		\n	\n\n		\n			\n									\n	Google Calendar\n\n									\n	iCalendar\n\n									\n	Outlook 365\n\n									\n	Outlook Live
URL:https://monthavenarts.org/event/healing-arts-workshop-embracing-imperfections-the-japanese-art-of-kintsugi-healing-arts-workshop/
LOCATION:Monthaven Arts and Cultural Center\, 1017 Antebellum Circle\, Hendersonville\, 37075\, United States
CATEGORIES:Events
ATTACH;FMTTYPE=image/webp:https://monthavenarts.org/wp-content/uploads/2025/07/healing-arts.webp
ORGANIZER;CN="Monthaven Arts and Cultural Center":MAILTO:admin@themacctn.org
END:VEVENT
END:VCALENDAR