BEGIN:VCALENDAR
VERSION:2.0
PRODID:-//Monthaven Art and Cultural Center - ECPv6.15.20//NONSGML v1.0//EN
CALSCALE:GREGORIAN
METHOD:PUBLISH
X-WR-CALNAME:Monthaven Art and Cultural Center
X-ORIGINAL-URL:https://monthavenarts.org
X-WR-CALDESC:Events for Monthaven Art and Cultural Center
REFRESH-INTERVAL;VALUE=DURATION:PT1H
X-Robots-Tag:noindex
X-PUBLISHED-TTL:PT1H
BEGIN:VTIMEZONE
TZID:America/Chicago
BEGIN:DAYLIGHT
TZOFFSETFROM:-0600
TZOFFSETTO:-0500
TZNAME:CDT
DTSTART:20240310T080000
END:DAYLIGHT
BEGIN:STANDARD
TZOFFSETFROM:-0500
TZOFFSETTO:-0600
TZNAME:CST
DTSTART:20241103T070000
END:STANDARD
BEGIN:DAYLIGHT
TZOFFSETFROM:-0600
TZOFFSETTO:-0500
TZNAME:CDT
DTSTART:20250309T080000
END:DAYLIGHT
BEGIN:STANDARD
TZOFFSETFROM:-0500
TZOFFSETTO:-0600
TZNAME:CST
DTSTART:20251102T070000
END:STANDARD
BEGIN:DAYLIGHT
TZOFFSETFROM:-0600
TZOFFSETTO:-0500
TZNAME:CDT
DTSTART:20260308T080000
END:DAYLIGHT
BEGIN:STANDARD
TZOFFSETFROM:-0500
TZOFFSETTO:-0600
TZNAME:CST
DTSTART:20261101T070000
END:STANDARD
END:VTIMEZONE
BEGIN:VEVENT
DTSTART;TZID=America/Chicago:20250712T103000
DTEND;TZID=America/Chicago:20250712T143000
DTSTAMP:20260420T203011
CREATED:20250402T004917Z
LAST-MODIFIED:20250603T151821Z
UID:13193-1752316200-1752330600@monthavenarts.org
SUMMARY:From Fire to Flow: Crafting with Iron and Colored Resin (July12th & 13th)
DESCRIPTION:From Fire to Flow: Crafting with Iron and Colored Resin (July 12th & 13th) 		\n				\n				\n				\n																										\n				\n				\n				\n							In this iron and colored resin pouring class\, you’ll explore the fusion of metal casting and resin artistry. The process begins with designing and preparing molds\, into which molten iron is carefully poured to create strong and intricate metal forms. After the iron has cooled and solidified\, colored resin is introduced\, filling voids\, cracks\, or intentional spaces to create striking visual contrasts. This combination of industrial and artistic techniques results in unique\, one-of-a-kind pieces that showcase both the raw strength of metal and the fluid vibrancy of resin. Through this class\, you’ll develop skills in mold-making\, metalworking\, and resin pouring\, blending craftsmanship with creative expression. The workshop is appropriate for adults\, teens\, and older children under supervision.  The $150 fee covers all supply costs.  Please be aware that this class will be held at Val’s studio located at 2853 Rural Hill Circle in Nashville. The two-day workshop is 10:30 a.m. to 2:30 p.m. on Saturday and 1 to 4 p.m. Sunday. Space is very limited. To Register\, click the button below. 						\n				\n				\n				\n					\n			\n						\n									Click here\n					\n					\n		\n				\n				\n				\n				\n					\n			\n		\n				\n				\n				\n				\n			\n	\n		\n\n	\n	Add to calendar	\n		\n	\n\n		\n			\n									\n	Google Calendar\n\n									\n	iCalendar\n\n									\n	Outlook 365\n\n									\n	Outlook Live
URL:https://monthavenarts.org/event/from-fire-to-flow-crafting-with-iron-and-colored-resin-may17th-18th/
LOCATION:Monthaven Arts and Cultural Center\, 1017 Antebellum Circle\, Hendersonville\, 37075\, United States
CATEGORIES:Events
ATTACH;FMTTYPE=image/webp:https://monthavenarts.org/wp-content/uploads/2025/04/Untitled-design-14.webp
END:VEVENT
END:VCALENDAR