BEGIN:VCALENDAR
VERSION:2.0
PRODID:-//Monthaven Art and Cultural Center - ECPv6.15.20//NONSGML v1.0//EN
CALSCALE:GREGORIAN
METHOD:PUBLISH
X-WR-CALNAME:Monthaven Art and Cultural Center
X-ORIGINAL-URL:https://monthavenarts.org
X-WR-CALDESC:Events for Monthaven Art and Cultural Center
REFRESH-INTERVAL;VALUE=DURATION:PT1H
X-Robots-Tag:noindex
X-PUBLISHED-TTL:PT1H
BEGIN:VTIMEZONE
TZID:America/Chicago
BEGIN:DAYLIGHT
TZOFFSETFROM:-0600
TZOFFSETTO:-0500
TZNAME:CDT
DTSTART:20240310T080000
END:DAYLIGHT
BEGIN:STANDARD
TZOFFSETFROM:-0500
TZOFFSETTO:-0600
TZNAME:CST
DTSTART:20241103T070000
END:STANDARD
BEGIN:DAYLIGHT
TZOFFSETFROM:-0600
TZOFFSETTO:-0500
TZNAME:CDT
DTSTART:20250309T080000
END:DAYLIGHT
BEGIN:STANDARD
TZOFFSETFROM:-0500
TZOFFSETTO:-0600
TZNAME:CST
DTSTART:20251102T070000
END:STANDARD
BEGIN:DAYLIGHT
TZOFFSETFROM:-0600
TZOFFSETTO:-0500
TZNAME:CDT
DTSTART:20260308T080000
END:DAYLIGHT
BEGIN:STANDARD
TZOFFSETFROM:-0500
TZOFFSETTO:-0600
TZNAME:CST
DTSTART:20261101T070000
END:STANDARD
END:VTIMEZONE
BEGIN:VEVENT
DTSTART;TZID=America/Chicago:20250322T103000
DTEND;TZID=America/Chicago:20250322T103000
DTSTAMP:20260423T064220
CREATED:20250226T221342Z
LAST-MODIFIED:20250303T203204Z
UID:12834-1742639400-1742639400@monthavenarts.org
SUMMARY:Forged in Creativity: The Art of Soldering & Welding (March 22nd & 23rd)
DESCRIPTION:Forged in Creativity - The Art of Soldering & Welding (March 22nd & 23rd)		\n				\n				\n				\n																										\n				\n				\n				\n							Unlock the hidden potential of metal in this hands-on soldering and welding course\, where sparks fly and imagination takes shape! This immersive experience blends craftsmanship with creativity\, inviting you to transform found metal objects into stunning works of art. Whether you’re drawn to the nostalgia of weathered steel or the endless possibilities of repurposed materials\, you’ll learn essential techniques to cut\, fuse\, and shape metal into expressive sculptures\, jewelry\, or functional art pieces. Guided by expert instruction\, you’ll master the art of precision and heat\, gaining confidence with torches\, welders\, and soldering irons. As you work with reclaimed materials\, each piece tells a story—blending past and present into something entirely new. Perfect for beginners and experienced makers alike\, this course is about more than just metalwork—it’s about creativity\, connection\, and the thrill of bringing raw materials to life. Come ready to ignite your artistic vision\, embrace the beauty of imperfection\, and leave with a masterpiece forged by your own hands! The workshop is appropriate for adults\, teens\, and older children under supervision. The $150 fee covers all supply costs. The two-day workshop is 10:30 a.m. to 2:30 p.m. on Saturday\, (includes light lunch) and 1 to 4 p.m. Sunday. Space is very limited. To Register\, click the button below. 						\n				\n				\n				\n					\n			\n						\n									Click here\n					\n					\n		\n				\n				\n				\n				\n					\n			\n		\n				\n				\n				\n				\n			\n	\n		\n\n	\n	Add to calendar	\n		\n	\n\n		\n			\n									\n	Google Calendar\n\n									\n	iCalendar\n\n									\n	Outlook 365\n\n									\n	Outlook Live
URL:https://monthavenarts.org/event/forged-in-creativity-the-art-of-soldering-welding-march-22nd-23rd/
LOCATION:Monthaven Arts and Cultural Center\, 1017 Antebellum Circle\, Hendersonville\, 37075\, United States
CATEGORIES:Events
ATTACH;FMTTYPE=image/webp:https://monthavenarts.org/wp-content/uploads/2025/02/Metal-Graphic-in-web-format-3-scaled.webp
END:VEVENT
END:VCALENDAR