BEGIN:VCALENDAR
VERSION:2.0
PRODID:-//Monthaven Art and Cultural Center - ECPv6.15.20//NONSGML v1.0//EN
CALSCALE:GREGORIAN
METHOD:PUBLISH
X-WR-CALNAME:Monthaven Art and Cultural Center
X-ORIGINAL-URL:https://monthavenarts.org
X-WR-CALDESC:Events for Monthaven Art and Cultural Center
REFRESH-INTERVAL;VALUE=DURATION:PT1H
X-Robots-Tag:noindex
X-PUBLISHED-TTL:PT1H
BEGIN:VTIMEZONE
TZID:America/Chicago
BEGIN:DAYLIGHT
TZOFFSETFROM:-0600
TZOFFSETTO:-0500
TZNAME:CDT
DTSTART:20250309T080000
END:DAYLIGHT
BEGIN:STANDARD
TZOFFSETFROM:-0500
TZOFFSETTO:-0600
TZNAME:CST
DTSTART:20251102T070000
END:STANDARD
BEGIN:DAYLIGHT
TZOFFSETFROM:-0600
TZOFFSETTO:-0500
TZNAME:CDT
DTSTART:20260308T080000
END:DAYLIGHT
BEGIN:STANDARD
TZOFFSETFROM:-0500
TZOFFSETTO:-0600
TZNAME:CST
DTSTART:20261101T070000
END:STANDARD
BEGIN:DAYLIGHT
TZOFFSETFROM:-0600
TZOFFSETTO:-0500
TZNAME:CDT
DTSTART:20270314T080000
END:DAYLIGHT
BEGIN:STANDARD
TZOFFSETFROM:-0500
TZOFFSETTO:-0600
TZNAME:CST
DTSTART:20271107T070000
END:STANDARD
END:VTIMEZONE
BEGIN:VEVENT
DTSTART;TZID=America/Chicago:20260328T103000
DTEND;TZID=America/Chicago:20260328T143000
DTSTAMP:20260421T033848
CREATED:20260217T205651Z
LAST-MODIFIED:20260305T190618Z
UID:16124-1774693800-1774708200@monthavenarts.org
SUMMARY:Forged by Fire: Creatures in Steel - with Val Adams
DESCRIPTION:Forged by Fire: Creatures in Steel - with Val Adams\nSaturday\, March 28th/10:30 - 12:30 & Sunday\, March 29th/1:00 - 4:00		\n				\n				\n				\n																										\n				\n				\n				\n							In this two-day art welding course students will transform forgotten metal\, rusted tools\, discarded hardware\, and other found objects into original animal sculptures of their own design. Through guided instruction in basic welding techniques\, safety\, and metal manipulation\, participants will learn how to cut\, join\, balance\, and shape steel into expressive three-dimensional forms. From fierce predators forged out of gears and chains to delicate birds assembled from scrap wire and sheet metal\, each creature will reflect the imagination and ingenuity of its maker. This class invites students to see possibility in the overlooked\, to turn industrial remnants into living forms\, and to leave with both a powerful new skill set and a one-of-a-kind welded animal brought to life by fire. No prior experience required. All materials provided. Saturday\, March 28th: 10:30 – 2:30 at MonthavenSunday\, March 29th: 1:00 – 4:00 at Monthaven Space: Extremely limited—early registration recommended! 						\n				\n				\n				\n					\n			\n						\n									Click here to register\n					\n					\n		\n				\n				\n				\n				\n			\n	\n		\n\n	\n	Add to calendar	\n		\n	\n\n		\n			\n									\n	Google Calendar\n\n									\n	iCalendar\n\n									\n	Outlook 365\n\n									\n	Outlook Live
URL:https://monthavenarts.org/event/forged-by-fire-creatures-in-steel/
LOCATION:Monthaven Arts and Cultural Center\, 1017 Antebellum Circle\, Hendersonville\, 37075\, United States
ATTACH;FMTTYPE=image/png:https://monthavenarts.org/wp-content/uploads/2026/02/Forged-by-Fire.png
END:VEVENT
END:VCALENDAR